BEGIN:VCALENDAR
VERSION:2.0
PRODID:-//hacksw/handcal//NONSGML v1.0//EN
CALSCALE:GREGORIAN
BEGIN:VEVENT
DTSTART:20160927T080000Z
DTEND:20160927T080000Z
UID:e17356
DTSTAMP:20260420T173719Z
LOCATION:Helen and Milton A. Kimmelman Building
DESCRIPTION:An NMR Study of Molecular Capsules
SUMMARY:An NMR Study of Molecular Capsules
END:VEVENT
END:VCALENDAR