BEGIN:VCALENDAR
VERSION:2.0
PRODID:-//hacksw/handcal//NONSGML v1.0//EN
CALSCALE:GREGORIAN
BEGIN:VEVENT
DTSTART:20161121T143000Z
DTEND:20161121T160000Z
UID:e17363
DTSTAMP:20260420T120001Z
LOCATION:Michael Sela Auditorium
DESCRIPTION:Magic door  - Children's theater 
SUMMARY:Magic door  - Children's theater 
END:VEVENT
END:VCALENDAR