BEGIN:VCALENDAR
VERSION:2.0
PRODID:-//hacksw/handcal//NONSGML v1.0//EN
CALSCALE:GREGORIAN
BEGIN:VEVENT
DTSTART:19691231T160000Z
DTEND:19691231T160000Z
UID:e17375
DTSTAMP:20260419T231705Z
LOCATION:
DESCRIPTION:Minerva Annual Meeting 2018
SUMMARY:Minerva Annual Meeting 2018
END:VEVENT
END:VCALENDAR