BEGIN:VCALENDAR
VERSION:2.0
PRODID:-//hacksw/handcal//NONSGML v1.0//EN
CALSCALE:GREGORIAN
BEGIN:VEVENT
DTSTART:20170110T070000Z
DTEND:20170110T080000Z
UID:e17382
DTSTAMP:20260422T124100Z
LOCATION:Wolfson Building for Biological Research
DESCRIPTION:Cardiolipin  - mitochondrial phospholipid at the epicenter of energy metabolism
SUMMARY:Cardiolipin  - mitochondrial phospholipid at the epicenter of energy metabolism
END:VEVENT
END:VCALENDAR