BEGIN:VCALENDAR
VERSION:2.0
PRODID:-//hacksw/handcal//NONSGML v1.0//EN
CALSCALE:GREGORIAN
BEGIN:VEVENT
DTSTART:20161115T110000Z
DTEND:20161115T110000Z
UID:e17388
DTSTAMP:20260420T034201Z
LOCATION:Helen and Milton A. Kimmelman Building
DESCRIPTION:"The interplay between structured and disordered domains in proteins"
SUMMARY:"The interplay between structured and disordered domains in proteins"
END:VEVENT
END:VCALENDAR