BEGIN:VCALENDAR
VERSION:2.0
PRODID:-//hacksw/handcal//NONSGML v1.0//EN
CALSCALE:GREGORIAN
BEGIN:VEVENT
DTSTART:20161031T080000Z
DTEND:20161031T091500Z
UID:e17394
DTSTAMP:20260422T191745Z
LOCATION:Gerhard M.J. Schmidt Lecture Hall
DESCRIPTION:"Chirality and spin- from spintronics to water splitting"
SUMMARY:"Chirality and spin- from spintronics to water splitting"
END:VEVENT
END:VCALENDAR