BEGIN:VCALENDAR
VERSION:2.0
PRODID:-//hacksw/handcal//NONSGML v1.0//EN
CALSCALE:GREGORIAN
BEGIN:VEVENT
DTSTART:20161108T120000Z
DTEND:20161108T120000Z
UID:e17400
DTSTAMP:20260424T055744Z
LOCATION:Dolfi and Lola Ebner Auditorium
DESCRIPTION:The Braginsky Center for the Interface between the Sciences and the Humanities
SUMMARY:The Braginsky Center for the Interface between the Sciences and the Humanities
END:VEVENT
END:VCALENDAR