BEGIN:VCALENDAR
VERSION:2.0
PRODID:-//hacksw/handcal//NONSGML v1.0//EN
CALSCALE:GREGORIAN
BEGIN:VEVENT
DTSTART:20161101T093000Z
DTEND:20161101T093000Z
UID:e17404
DTSTAMP:20260422T182613Z
LOCATION:Gerhard M.J. Schmidt Lecture Hall
DESCRIPTION:Visual perception as retrospective decoding in working memory 
SUMMARY:Visual perception as retrospective decoding in working memory 
END:VEVENT
END:VCALENDAR