BEGIN:VCALENDAR
VERSION:2.0
PRODID:-//hacksw/handcal//NONSGML v1.0//EN
CALSCALE:GREGORIAN
BEGIN:VEVENT
DTSTART:20170117T053000Z
DTEND:20170117T090000Z
UID:e17406
DTSTAMP:20260422T091156Z
LOCATION:Wolfson Building for Biological Research
DESCRIPTION:"Timelines in Biology-Workshop"
SUMMARY:"Timelines in Biology-Workshop"
END:VEVENT
END:VCALENDAR