BEGIN:VCALENDAR
VERSION:2.0
PRODID:-//hacksw/handcal//NONSGML v1.0//EN
CALSCALE:GREGORIAN
BEGIN:VEVENT
DTSTART:20161110T120000Z
DTEND:20161110T130000Z
UID:e17431
DTSTAMP:20260420T050038Z
LOCATION:Arthur and Rochelle Belfer Building for Biomedical Research
DESCRIPTION:Obesity paradox\, obesity orthodox\, and the metabolic syndrome: An approach to unity
SUMMARY:Obesity paradox\, obesity orthodox\, and the metabolic syndrome: An approach to unity
END:VEVENT
END:VCALENDAR