BEGIN:VCALENDAR
VERSION:2.0
PRODID:-//hacksw/handcal//NONSGML v1.0//EN
CALSCALE:GREGORIAN
BEGIN:VEVENT
DTSTART:20161218T120000Z
DTEND:20161218T130000Z
UID:e17432
DTSTAMP:20260421T114520Z
LOCATION:
DESCRIPTION:The contribution of amino -acid metabolism to carcinogenesis
SUMMARY:The contribution of amino -acid metabolism to carcinogenesis
END:VEVENT
END:VCALENDAR