BEGIN:VCALENDAR
VERSION:2.0
PRODID:-//hacksw/handcal//NONSGML v1.0//EN
CALSCALE:GREGORIAN
BEGIN:VEVENT
DTSTART:20161206T170000Z
DTEND:20161206T170000Z
UID:e17440
DTSTAMP:20260420T050059Z
LOCATION:Michael Sela Auditorium
DESCRIPTION:Sublimation of Love - Russian theater 
SUMMARY:Sublimation of Love - Russian theater 
END:VEVENT
END:VCALENDAR