BEGIN:VCALENDAR
VERSION:2.0
PRODID:-//hacksw/handcal//NONSGML v1.0//EN
CALSCALE:GREGORIAN
BEGIN:VEVENT
DTSTART:20161231T170000Z
DTEND:20161231T170000Z
UID:e17454
DTSTAMP:20260421T223130Z
LOCATION:Michael Sela Auditorium
DESCRIPTION:Nathan's friends - New Year's Eve  
SUMMARY:Nathan's friends - New Year's Eve  
END:VEVENT
END:VCALENDAR