BEGIN:VCALENDAR
VERSION:2.0
PRODID:-//hacksw/handcal//NONSGML v1.0//EN
CALSCALE:GREGORIAN
BEGIN:VEVENT
DTSTART:20161106T070000Z
DTEND:20161106T130000Z
UID:e17456
DTSTAMP:20260420T190119Z
LOCATION:Edna and K.B. Weissman Building of Physical Sciences
DESCRIPTION:Pre-SAAC Symposium on Astrophysics and Astroparticles
SUMMARY:Pre-SAAC Symposium on Astrophysics and Astroparticles
END:VEVENT
END:VCALENDAR