BEGIN:VCALENDAR
VERSION:2.0
PRODID:-//hacksw/handcal//NONSGML v1.0//EN
CALSCALE:GREGORIAN
BEGIN:VEVENT
DTSTART:20161123T080000Z
DTEND:20161123T080000Z
UID:e17472
DTSTAMP:20260419T185633Z
LOCATION:Arthur and Rochelle Belfer Building for Biomedical Research
DESCRIPTION:'Breast cancer explants as a pharmacogenomics platform'
SUMMARY:'Breast cancer explants as a pharmacogenomics platform'
END:VEVENT
END:VCALENDAR