BEGIN:VCALENDAR
VERSION:2.0
PRODID:-//hacksw/handcal//NONSGML v1.0//EN
CALSCALE:GREGORIAN
BEGIN:VEVENT
DTSTART:20161220T090000Z
DTEND:20161220T100000Z
UID:e17496
DTSTAMP:20260421T114512Z
LOCATION:Dolfi and Lola Ebner Auditorium
DESCRIPTION:Dr. Ilana Kolodkin Gal - Under the surface: A tour of collective microbe communities
SUMMARY:Dr. Ilana Kolodkin Gal - Under the surface: A tour of collective microbe communities
END:VEVENT
END:VCALENDAR