BEGIN:VCALENDAR
VERSION:2.0
PRODID:-//hacksw/handcal//NONSGML v1.0//EN
CALSCALE:GREGORIAN
BEGIN:VEVENT
DTSTART:20161116T070000Z
DTEND:20161116T070000Z
UID:e17498
DTSTAMP:20260420T120003Z
LOCATION:Arthur and Rochelle Belfer Building for Biomedical Research
DESCRIPTION:Transcriptional control of axonal degeneration
SUMMARY:Transcriptional control of axonal degeneration
END:VEVENT
END:VCALENDAR