BEGIN:VCALENDAR
VERSION:2.0
PRODID:-//hacksw/handcal//NONSGML v1.0//EN
CALSCALE:GREGORIAN
BEGIN:VEVENT
DTSTART:20161115T091500Z
DTEND:20161115T091500Z
UID:e17518
DTSTAMP:20260419T185522Z
LOCATION:Wolfson Building for Biological Research
DESCRIPTION:MCB - Students Seminar 
SUMMARY:MCB - Students Seminar 
END:VEVENT
END:VCALENDAR