BEGIN:VCALENDAR
VERSION:2.0
PRODID:-//hacksw/handcal//NONSGML v1.0//EN
CALSCALE:GREGORIAN
BEGIN:VEVENT
DTSTART:20161116T080000Z
DTEND:20161116T080000Z
UID:e17523
DTSTAMP:20260420T045930Z
LOCATION:Perlman Chemical Sciences Building
DESCRIPTION:Diphenylalanine self-assembly- kinetics\, thermodynamics and its relevance to amyloidogenesis
SUMMARY:Diphenylalanine self-assembly- kinetics\, thermodynamics and its relevance to amyloidogenesis
END:VEVENT
END:VCALENDAR