BEGIN:VCALENDAR
VERSION:2.0
PRODID:-//hacksw/handcal//NONSGML v1.0//EN
CALSCALE:GREGORIAN
BEGIN:VEVENT
DTSTART:20161120T080000Z
DTEND:20161120T090000Z
UID:e17524
DTSTAMP:20260420T045933Z
LOCATION:Perlman Chemical Sciences Building
DESCRIPTION:Modeling of Nanoparticles Self-assembly and Coupling with Biomolecular Complexes
SUMMARY:Modeling of Nanoparticles Self-assembly and Coupling with Biomolecular Complexes
END:VEVENT
END:VCALENDAR