BEGIN:VCALENDAR
VERSION:2.0
PRODID:-//hacksw/handcal//NONSGML v1.0//EN
CALSCALE:GREGORIAN
BEGIN:VEVENT
DTSTART:20170103T091500Z
DTEND:20170103T091500Z
UID:e17530
DTSTAMP:20260421T213508Z
LOCATION:Wolfson Building for Biological Research
DESCRIPTION:MCB - Students seminar
SUMMARY:MCB - Students seminar
END:VEVENT
END:VCALENDAR