BEGIN:VCALENDAR
VERSION:2.0
PRODID:-//hacksw/handcal//NONSGML v1.0//EN
CALSCALE:GREGORIAN
BEGIN:VEVENT
DTSTART:20170425T091500Z
DTEND:20170425T091500Z
UID:e17535
DTSTAMP:20260419T185446Z
LOCATION:Wolfson Building for Biological Research
DESCRIPTION:MCB - Students seminar
SUMMARY:MCB - Students seminar
END:VEVENT
END:VCALENDAR