BEGIN:VCALENDAR
VERSION:2.0
PRODID:-//hacksw/handcal//NONSGML v1.0//EN
CALSCALE:GREGORIAN
BEGIN:VEVENT
DTSTART:20161117T081500Z
DTEND:20161117T093000Z
UID:e17540
DTSTAMP:20260420T120009Z
LOCATION:Edna and K.B. Weissman Building of Physical Sciences
DESCRIPTION:New perspectives on the origin of masses 
SUMMARY:New perspectives on the origin of masses 
END:VEVENT
END:VCALENDAR