BEGIN:VCALENDAR
VERSION:2.0
PRODID:-//hacksw/handcal//NONSGML v1.0//EN
CALSCALE:GREGORIAN
BEGIN:VEVENT
DTSTART:20161229T081500Z
DTEND:20161229T093000Z
UID:e17545
DTSTAMP:20260422T182626Z
LOCATION:Edna and K.B. Weissman Building of Physical Sciences
DESCRIPTION:From Black Holes to Bad Metals
SUMMARY:From Black Holes to Bad Metals
END:VEVENT
END:VCALENDAR