BEGIN:VCALENDAR
VERSION:2.0
PRODID:-//hacksw/handcal//NONSGML v1.0//EN
CALSCALE:GREGORIAN
BEGIN:VEVENT
DTSTART:20170209T081500Z
DTEND:20170209T093000Z
UID:e17553
DTSTAMP:20260422T041858Z
LOCATION:Edna and K.B. Weissman Building of Physical Sciences
DESCRIPTION:Novel quantum oscillatory phenomena of Weyl and Dirac materials
SUMMARY:Novel quantum oscillatory phenomena of Weyl and Dirac materials
END:VEVENT
END:VCALENDAR