BEGIN:VCALENDAR
VERSION:2.0
PRODID:-//hacksw/handcal//NONSGML v1.0//EN
CALSCALE:GREGORIAN
BEGIN:VEVENT
DTSTART:20170216T081500Z
DTEND:20170216T093000Z
UID:e17554
DTSTAMP:20260420T050217Z
LOCATION:Edna and K.B. Weissman Building of Physical Sciences
DESCRIPTION:Mass Transfer in Binaries:Planets Around Stars and Stars Around Supermassive Black Holes
SUMMARY:Mass Transfer in Binaries:Planets Around Stars and Stars Around Supermassive Black Holes
END:VEVENT
END:VCALENDAR