BEGIN:VCALENDAR
VERSION:2.0
PRODID:-//hacksw/handcal//NONSGML v1.0//EN
CALSCALE:GREGORIAN
BEGIN:VEVENT
DTSTART:20170309T081500Z
DTEND:20170309T093000Z
UID:e17557
DTSTAMP:20260421T223144Z
LOCATION:Edna and K.B. Weissman Building of Physical Sciences
DESCRIPTION:Physics Colloquium- canceled 
SUMMARY:Physics Colloquium- canceled 
END:VEVENT
END:VCALENDAR