BEGIN:VCALENDAR
VERSION:2.0
PRODID:-//hacksw/handcal//NONSGML v1.0//EN
CALSCALE:GREGORIAN
BEGIN:VEVENT
DTSTART:20161121T131500Z
DTEND:20161121T131500Z
UID:e17573
DTSTAMP:20260420T050016Z
LOCATION:Edna and K.B. Weissman Building of Physical Sciences
DESCRIPTION:Nuclear physics with high power lasers at ELI-NP
SUMMARY:Nuclear physics with high power lasers at ELI-NP
END:VEVENT
END:VCALENDAR