BEGIN:VCALENDAR
VERSION:2.0
PRODID:-//hacksw/handcal//NONSGML v1.0//EN
CALSCALE:GREGORIAN
BEGIN:VEVENT
DTSTART:20161122T090000Z
DTEND:20161122T090000Z
UID:e17582
DTSTAMP:20260420T115959Z
LOCATION:
DESCRIPTION:4D N=1 FROM 6D (1\,0) 
SUMMARY:4D N=1 FROM 6D (1\,0) 
END:VEVENT
END:VCALENDAR