BEGIN:VCALENDAR
VERSION:2.0
PRODID:-//hacksw/handcal//NONSGML v1.0//EN
CALSCALE:GREGORIAN
BEGIN:VEVENT
DTSTART:20161218T080000Z
DTEND:20161218T080000Z
UID:e17586
DTSTAMP:20260421T235407Z
LOCATION:Sussman Family Building for Environmental Sciences
DESCRIPTION:Characterization of fine aerosol pollution at a remote site of the Eastern Mediterranean: New findings and future perspectives
SUMMARY:Characterization of fine aerosol pollution at a remote site of the Eastern Mediterranean: New findings and future perspectives
END:VEVENT
END:VCALENDAR