BEGIN:VCALENDAR
VERSION:2.0
PRODID:-//hacksw/handcal//NONSGML v1.0//EN
CALSCALE:GREGORIAN
BEGIN:VEVENT
DTSTART:20170102T110000Z
DTEND:20170102T120000Z
UID:e17591
DTSTAMP:20260421T182253Z
LOCATION:Max and Lillian Candiotty Building
DESCRIPTION:Exploring the genetics of aging\, using a naturally short-lived vertebrate
SUMMARY:Exploring the genetics of aging\, using a naturally short-lived vertebrate
END:VEVENT
END:VCALENDAR