BEGIN:VCALENDAR
VERSION:2.0
PRODID:-//hacksw/handcal//NONSGML v1.0//EN
CALSCALE:GREGORIAN
BEGIN:VEVENT
DTSTART:20161205T101500Z
DTEND:20161205T113000Z
UID:e17595
DTSTAMP:20260421T114647Z
LOCATION:Wolfson Building for Biological Research
DESCRIPTION:Multipurpose DARPin Binders for Innovative Applications - Identifying Affinity Reagents for Challenging Tasks
SUMMARY:Multipurpose DARPin Binders for Innovative Applications - Identifying Affinity Reagents for Challenging Tasks
END:VEVENT
END:VCALENDAR