BEGIN:VCALENDAR
VERSION:2.0
PRODID:-//hacksw/handcal//NONSGML v1.0//EN
CALSCALE:GREGORIAN
BEGIN:VEVENT
DTSTART:20161123T100000Z
DTEND:20161123T100000Z
UID:e17602
DTSTAMP:20260420T003358Z
LOCATION:Nella and Leon Benoziyo Building for Brain Research
DESCRIPTION:Role of Extracellular Matrix and K+-Cl--Cotransporter 2 in Neuronal Inhibition 
SUMMARY:Role of Extracellular Matrix and K+-Cl--Cotransporter 2 in Neuronal Inhibition 
END:VEVENT
END:VCALENDAR