BEGIN:VCALENDAR
VERSION:2.0
PRODID:-//hacksw/handcal//NONSGML v1.0//EN
CALSCALE:GREGORIAN
BEGIN:VEVENT
DTSTART:20161129T093000Z
DTEND:20161129T093000Z
UID:e17615
DTSTAMP:20260419T231728Z
LOCATION:Gerhard M.J. Schmidt Lecture Hall
DESCRIPTION:Electromagnetic stimulation in neural networks and in the brain 
SUMMARY:Electromagnetic stimulation in neural networks and in the brain 
END:VEVENT
END:VCALENDAR