BEGIN:VCALENDAR
VERSION:2.0
PRODID:-//hacksw/handcal//NONSGML v1.0//EN
CALSCALE:GREGORIAN
BEGIN:VEVENT
DTSTART:20161206T080000Z
DTEND:20161206T091500Z
UID:e17627
DTSTAMP:20260421T114626Z
LOCATION:Helen and Milton A. Kimmelman Building
DESCRIPTION:“Visualizing nanoscale assembly and fabrication in solution using in situ TEM”
SUMMARY:“Visualizing nanoscale assembly and fabrication in solution using in situ TEM”
END:VEVENT
END:VCALENDAR