BEGIN:VCALENDAR
VERSION:2.0
PRODID:-//hacksw/handcal//NONSGML v1.0//EN
CALSCALE:GREGORIAN
BEGIN:VEVENT
DTSTART:20161206T081500Z
DTEND:20161206T081500Z
UID:e17638
DTSTAMP:20260424T055735Z
LOCATION:Ullmann Building of Life Sciences
DESCRIPTION:The eco-hydrology of forest density reduction
SUMMARY:The eco-hydrology of forest density reduction
END:VEVENT
END:VCALENDAR