BEGIN:VCALENDAR
VERSION:2.0
PRODID:-//hacksw/handcal//NONSGML v1.0//EN
CALSCALE:GREGORIAN
BEGIN:VEVENT
DTSTART:20170114T180000Z
DTEND:20170114T193000Z
UID:e17644
DTSTAMP:20260422T041734Z
LOCATION:Michael Sela Auditorium
DESCRIPTION:Ori Hizkiah - Stand up 
SUMMARY:Ori Hizkiah - Stand up 
END:VEVENT
END:VCALENDAR