BEGIN:VCALENDAR
VERSION:2.0
PRODID:-//hacksw/handcal//NONSGML v1.0//EN
CALSCALE:GREGORIAN
BEGIN:VEVENT
DTSTART:20161222T070000Z
DTEND:20161222T070000Z
UID:e17650
DTSTAMP:20260423T183816Z
LOCATION:Arthur and Rochelle Belfer Building for Biomedical Research
DESCRIPTION:The regulatory role of short structural variants and the implication to neurodegenerative diseases in aging
SUMMARY:The regulatory role of short structural variants and the implication to neurodegenerative diseases in aging
END:VEVENT
END:VCALENDAR