BEGIN:VCALENDAR
VERSION:2.0
PRODID:-//hacksw/handcal//NONSGML v1.0//EN
CALSCALE:GREGORIAN
BEGIN:VEVENT
DTSTART:20161211T073000Z
DTEND:20161211T073000Z
UID:e17670
DTSTAMP:20260420T050053Z
LOCATION:Ullmann Building of Life Sciences
DESCRIPTION:A Metabolic Gene Cluster Determines β-Diketone Biosynthesis in Wheat and Barley
SUMMARY:A Metabolic Gene Cluster Determines β-Diketone Biosynthesis in Wheat and Barley
END:VEVENT
END:VCALENDAR