BEGIN:VCALENDAR
VERSION:2.0
PRODID:-//hacksw/handcal//NONSGML v1.0//EN
CALSCALE:GREGORIAN
BEGIN:VEVENT
DTSTART:20161220T060000Z
DTEND:20161220T060000Z
UID:e17681
DTSTAMP:20260422T151324Z
LOCATION:Arthur and Rochelle Belfer Building for Biomedical Research
DESCRIPTION:The natural history of the infant gut microbiome in health and disease
SUMMARY:The natural history of the infant gut microbiome in health and disease
END:VEVENT
END:VCALENDAR