BEGIN:VCALENDAR
VERSION:2.0
PRODID:-//hacksw/handcal//NONSGML v1.0//EN
CALSCALE:GREGORIAN
BEGIN:VEVENT
DTSTART:20161220T120000Z
DTEND:20161220T120000Z
UID:e17699
DTSTAMP:20260421T114506Z
LOCATION:Helen and Milton A. Kimmelman Building
DESCRIPTION:"The protein folding problem: Slow progress using ultrafast spectroscopy and kinetics"
SUMMARY:"The protein folding problem: Slow progress using ultrafast spectroscopy and kinetics"
END:VEVENT
END:VCALENDAR