BEGIN:VCALENDAR
VERSION:2.0
PRODID:-//hacksw/handcal//NONSGML v1.0//EN
CALSCALE:GREGORIAN
BEGIN:VEVENT
DTSTART:20161220T081500Z
DTEND:20161220T081500Z
UID:e17711
DTSTAMP:20260421T174038Z
LOCATION:Ullmann Building of Life Sciences
DESCRIPTION:Decomposition of plant detritus in drylands – emerging drivers of the carbon cycle under a changing climate
SUMMARY:Decomposition of plant detritus in drylands – emerging drivers of the carbon cycle under a changing climate
END:VEVENT
END:VCALENDAR