BEGIN:VCALENDAR
VERSION:2.0
PRODID:-//hacksw/handcal//NONSGML v1.0//EN
CALSCALE:GREGORIAN
BEGIN:VEVENT
DTSTART:20161227T110000Z
DTEND:20161227T110000Z
UID:e17721
DTSTAMP:20260422T064150Z
LOCATION:Helen and Milton A. Kimmelman Building
DESCRIPTION:" Visualizing the Molecular Sociology in Cells and Tissues: Cryo-FIB Preparations Aimed at in situ Cryo-Electron Tomography”
SUMMARY:" Visualizing the Molecular Sociology in Cells and Tissues: Cryo-FIB Preparations Aimed at in situ Cryo-Electron Tomography”
END:VEVENT
END:VCALENDAR