BEGIN:VCALENDAR
VERSION:2.0
PRODID:-//hacksw/handcal//NONSGML v1.0//EN
CALSCALE:GREGORIAN
BEGIN:VEVENT
DTSTART:20161221T070000Z
DTEND:20161221T070000Z
UID:e17729
DTSTAMP:20260423T120758Z
LOCATION:Arthur and Rochelle Belfer Building for Biomedical Research
DESCRIPTION:Adaptive Plasticity by Individual-Specific Improvisation
SUMMARY:Adaptive Plasticity by Individual-Specific Improvisation
END:VEVENT
END:VCALENDAR