BEGIN:VCALENDAR
VERSION:2.0
PRODID:-//hacksw/handcal//NONSGML v1.0//EN
CALSCALE:GREGORIAN
BEGIN:VEVENT
DTSTART:20161227T093000Z
DTEND:20161227T093000Z
UID:e17730
DTSTAMP:20260422T142609Z
LOCATION:Gerhard M.J. Schmidt Lecture Hall
DESCRIPTION:Stimulus-specific adaptation in auditory cortex: models\, data\, and surprises
SUMMARY:Stimulus-specific adaptation in auditory cortex: models\, data\, and surprises
END:VEVENT
END:VCALENDAR