BEGIN:VCALENDAR
VERSION:2.0
PRODID:-//hacksw/handcal//NONSGML v1.0//EN
CALSCALE:GREGORIAN
BEGIN:VEVENT
DTSTART:20170103T060000Z
DTEND:20170103T070000Z
UID:e17735
DTSTAMP:20260422T142602Z
LOCATION:Arthur and Rochelle Belfer Building for Biomedical Research
DESCRIPTION:Antibodies and immune checkpoint proteins
SUMMARY:Antibodies and immune checkpoint proteins
END:VEVENT
END:VCALENDAR