BEGIN:VCALENDAR
VERSION:2.0
PRODID:-//hacksw/handcal//NONSGML v1.0//EN
CALSCALE:GREGORIAN
BEGIN:VEVENT
DTSTART:20170103T070000Z
DTEND:20170103T070000Z
UID:e17736
DTSTAMP:20260421T213453Z
LOCATION:Perlman Chemical Sciences Building
DESCRIPTION:Joint Chemical Physics and Materials and Interfaces Seminar
SUMMARY:Joint Chemical Physics and Materials and Interfaces Seminar
END:VEVENT
END:VCALENDAR