BEGIN:VCALENDAR
VERSION:2.0
PRODID:-//hacksw/handcal//NONSGML v1.0//EN
CALSCALE:GREGORIAN
BEGIN:VEVENT
DTSTART:20170104T080000Z
DTEND:20170104T090000Z
UID:e17739
DTSTAMP:20260422T033938Z
LOCATION:Wolfson Building for Biological Research
DESCRIPTION:Special Guest Seminar
SUMMARY:Special Guest Seminar
END:VEVENT
END:VCALENDAR