BEGIN:VCALENDAR
VERSION:2.0
PRODID:-//hacksw/handcal//NONSGML v1.0//EN
CALSCALE:GREGORIAN
BEGIN:VEVENT
DTSTART:20161228T080000Z
DTEND:20161228T080000Z
UID:e17743
DTSTAMP:20260422T182611Z
LOCATION:Arthur and Rochelle Belfer Building for Biomedical Research
DESCRIPTION:Building tissues to understand how tissues build themselves
SUMMARY:Building tissues to understand how tissues build themselves
END:VEVENT
END:VCALENDAR