BEGIN:VCALENDAR
VERSION:2.0
PRODID:-//hacksw/handcal//NONSGML v1.0//EN
CALSCALE:GREGORIAN
BEGIN:VEVENT
DTSTART:20161227T142000Z
DTEND:20161227T142000Z
UID:e17761
DTSTAMP:20260421T223118Z
LOCATION:
DESCRIPTION:Algebraic Geometry and Representation Theory Seminar
SUMMARY:Algebraic Geometry and Representation Theory Seminar
END:VEVENT
END:VCALENDAR